BEGIN:VCALENDAR
VERSION:2.0
METHOD:PUBLISH
PRODID:-//Agenda.ad//NONSGML v1.0//EN
BEGIN:VEVENT
CLASS:PUBLIC
UID:6e955c8e1813de34eb78121a5e865c98@agenda.ad
DTSTAMP:20260422T002917Z
DTSTART:20190710T220000Z
DTEND:20190710T220000Z
SUMMARY:Nits d'estiu als museus &middot;&nbsp;'La santa, el rus i el comte', visita teatralitzada
DESCRIPTION:Visita teatralitzada per Santa Coloma. \n\nMés informa
 ció\nhttps://www.agenda.ad/activitat/andorra-la-vella/mes-c
 ultura/nits-d-estiu-als-museus- -la-santa-el-rus-i-el-comte
 -visita-teatralitzada\n\n\nOrganitza\nComú d'Andorra la Vel
 la
LOCATION:Santa Coloma - per tot el poble
SEQUENCE:0
TRANSP:OPAQUE
X-ALT-DESC;FMTTYPE=text/html:<!DOCTYPE HTML PUBLIC "-//W3C//DTD HTML 3.2//EN"><HTML><HEAD
 ><TITLE></TITLE></HEAD><BODY><FONT FACE="Arial" SIZE=2><span
 >Visita teatralitzada per Santa Coloma.&nbsp;</span><br/><br
 /><b>Més informació</b><br/><a href="https://www.agenda.ad
 /activitat/andorra-la-vella/mes-cultura/nits-d-estiu-als-mus
 eus- -la-santa-el-rus-i-el-comte-visita-teatralitzada">http
 s://www.agenda.ad/activitat/andorra-la-vella/mes-cultura/nit
 s-d-estiu-als-museus- -la-santa-el-rus-i-el-comte-visita-te
 atralitzada</a><br/><br/><br/><b>Organitza</b><br/>Comú d'A
 ndorra la Vella</FONT></BODY></HTML>
END:VEVENT
END:VCALENDAR